BEGIN:VCALENDAR
VERSION:2.0
PRODID:-//Wardington.net - ECPv6.15.20//NONSGML v1.0//EN
CALSCALE:GREGORIAN
METHOD:PUBLISH
X-ORIGINAL-URL:https://wardington.net
X-WR-CALDESC:Events for Wardington.net
REFRESH-INTERVAL;VALUE=DURATION:PT1H
X-Robots-Tag:noindex
X-PUBLISHED-TTL:PT1H
BEGIN:VTIMEZONE
TZID:Europe/London
BEGIN:DAYLIGHT
TZOFFSETFROM:+0000
TZOFFSETTO:+0100
TZNAME:BST
DTSTART:20250330T010000
END:DAYLIGHT
BEGIN:STANDARD
TZOFFSETFROM:+0100
TZOFFSETTO:+0000
TZNAME:GMT
DTSTART:20251026T010000
END:STANDARD
BEGIN:DAYLIGHT
TZOFFSETFROM:+0000
TZOFFSETTO:+0100
TZNAME:BST
DTSTART:20260329T010000
END:DAYLIGHT
BEGIN:STANDARD
TZOFFSETFROM:+0100
TZOFFSETTO:+0000
TZNAME:GMT
DTSTART:20261025T010000
END:STANDARD
BEGIN:DAYLIGHT
TZOFFSETFROM:+0000
TZOFFSETTO:+0100
TZNAME:BST
DTSTART:20270328T010000
END:DAYLIGHT
BEGIN:STANDARD
TZOFFSETFROM:+0100
TZOFFSETTO:+0000
TZNAME:GMT
DTSTART:20271031T010000
END:STANDARD
END:VTIMEZONE
BEGIN:VEVENT
DTSTART;TZID=Europe/London:20260208T103000
DTEND;TZID=Europe/London:20260208T110000
DTSTAMP:20260420T100153
CREATED:20260202T114608Z
LAST-MODIFIED:20260206T191056Z
UID:10580-1770546600-1770548400@wardington.net
SUMMARY:Family Service
DESCRIPTION:A short service for all the family led by the Vicar\, Revd Canon Sarah Fenby.
URL:https://wardington.net/event/family-service/
LOCATION:St. Mary Magdalene Church
CATEGORIES:Church
ORGANIZER;CN="clive Hunt":MAILTO:wardington.church@btinternet.com
END:VEVENT
BEGIN:VEVENT
DTSTART;TZID=Europe/London:20260222T093000
DTEND;TZID=Europe/London:20260222T103000
DTSTAMP:20260420T100153
CREATED:20260202T114943Z
LAST-MODIFIED:20260202T114943Z
UID:10582-1771752600-1771756200@wardington.net
SUMMARY:Family Communion
DESCRIPTION:A simper form of the formal Holy Communion service led by the Vicar\, Revd Canon Sarah Fenby. \nAll are welcome.
URL:https://wardington.net/event/family-communion/
LOCATION:St. Mary Magdalene Church
CATEGORIES:Church
ORGANIZER;CN="clive Hunt":MAILTO:wardington.church@btinternet.com
END:VEVENT
BEGIN:VEVENT
DTSTART;TZID=Europe/London:20260227T183000
DTEND;TZID=Europe/London:20260227T223000
DTSTAMP:20260420T100153
CREATED:20260108T191123Z
LAST-MODIFIED:20260108T191123Z
UID:10554-1772217000-1772231400@wardington.net
SUMMARY:Film Night - Jay Kelly - 27th February
DESCRIPTION:At the Memorial Hall 6.30pm for 7pm start as the film is longer \nJay Kelly starring George Clooney and Adam Sandler. \nTickets £7 in advance from ejuliecampbell@btinternet.com or steve.mlawrie@btinternet.com. OR £8 on the door . tickets include complimentary icecream \n \n 
URL:https://wardington.net/event/film-night-jay-kelly-27th-february/
END:VEVENT
END:VCALENDAR